BEGIN:VCALENDAR
VERSION:2.0
PRODID:-//wp-events-plugin.com//7.2.3.1//EN
BEGIN:VEVENT
UID:310@eatplaytopangasocial.com
DTSTART;TZID=America/Los_Angeles:20230918T161500
DTEND;TZID=America/Los_Angeles:20230918T190000
DTSTAMP:20230825T223535Z
URL:https://www.eatplaytopangasocial.com/events/saints-panthers/
SUMMARY:SAINTS @ PANTHERS
DESCRIPTION:Catch the New Orleans Saints vs. Carolina Panthers Monday Night
  Football game live at Topanga Social. Witness every second of action on o
 ver 30 TVs with our epic game time deals like half-off pizzas from DTown a
 nd wings from Rock &amp\; Reilly’s. During all #MNF games\, grab a 60 oz
 . pitcher for only $26\, plus half-off all draft and bottled beers at Rock
  &amp\; Reilly’s. 
CATEGORIES:#MNF
END:VEVENT
BEGIN:VTIMEZONE
TZID:America/Los_Angeles
X-LIC-LOCATION:America/Los_Angeles
BEGIN:DAYLIGHT
DTSTART:20230312T030000
TZOFFSETFROM:-0800
TZOFFSETTO:-0700
TZNAME:PDT
END:DAYLIGHT
END:VTIMEZONE
END:VCALENDAR