BEGIN:VCALENDAR
VERSION:2.0
PRODID:-//wp-events-plugin.com//7.2.3.1//EN
BEGIN:VEVENT
UID:390@eatplaytopangasocial.com
DTSTART;TZID=America/Los_Angeles:20231216T110000
DTEND;TZID=America/Los_Angeles:20231216T140000
DTSTAMP:20231113T205522Z
URL:https://www.eatplaytopangasocial.com/events/ornament-making-2/
SUMMARY:ORNAMENT MAKING
DESCRIPTION:Come join us for a fun-filled day of ornament-making at Topanga
  Social! Get your creative juices flowing and make beautiful ornaments to 
 decorate your home or give as gifts. Our talented instructors will guide y
 ou through the process\, so no crafting experience is necessary. Whether y
 ou're a beginner or a seasoned DIY enthusiast\, this event is perfect for 
 all skill levels. At Topanga Social\, you'll find a warm and welcoming atm
 osphere where you can relax\, socialize\, and let your artistic side shine
 . We'll provide all the materials you need to create unique and personaliz
 ed ornaments. From traditional designs to modern and quirky styles\, the p
 ossibilities are endless. Purchase your $10 ticket HERE.
END:VEVENT
BEGIN:VTIMEZONE
TZID:America/Los_Angeles
X-LIC-LOCATION:America/Los_Angeles
BEGIN:STANDARD
DTSTART:20231105T010000
TZOFFSETFROM:-0700
TZOFFSETTO:-0800
TZNAME:PST
END:STANDARD
END:VTIMEZONE
END:VCALENDAR