BEGIN:VCALENDAR
VERSION:2.0
PRODID:-//wp-events-plugin.com//7.2.3.1//EN
BEGIN:VEVENT
UID:341@eatplaytopangasocial.com
DTSTART;TZID=America/Los_Angeles;VALUE=DATE:20231017
DTEND;TZID=America/Los_Angeles;VALUE=DATE:20231018
DTSTAMP:20231004T205615Z
URL:https://www.eatplaytopangasocial.com/events/national-pasta-day/
SUMMARY:NATIONAL PASTA DAY
DESCRIPTION:Join us on October 17th\, 2023\, for a pasta lover's dream as w
 e celebrate National Pasta Day at Topanga Social! Indulge in a culinary ad
 venture with half-off our exquisite Pesto Pasta from Burrata House\, avail
 able all day. Discover the perfect blend of flavors and textures in this m
 outhwatering dish. Whether you're a pasta connoisseur or simply looking fo
 r a delicious meal\, this celebration is for you. Don't miss your chance t
 o savor the magic of pasta on this special day. Join us at Topanga Social 
 and make National Pasta Day an unforgettable experience!
END:VEVENT
BEGIN:VTIMEZONE
TZID:America/Los_Angeles
X-LIC-LOCATION:America/Los_Angeles
BEGIN:DAYLIGHT
DTSTART:20230312T030000
TZOFFSETFROM:-0800
TZOFFSETTO:-0700
TZNAME:PDT
END:DAYLIGHT
END:VTIMEZONE
END:VCALENDAR