BEGIN:VCALENDAR
VERSION:2.0
PRODID:-//wp-events-plugin.com//7.2.3.1//EN
BEGIN:VEVENT
UID:1429@eatplaytopangasocial.com
DTSTART;TZID=America/Los_Angeles:20240713T110000
DTEND;TZID=America/Los_Angeles:20240713T220000
DTSTAMP:20240708T203006Z
URL:https://www.eatplaytopangasocial.com/events/french-fry-day/
SUMMARY:NATIONAL FRENCH FRY DAY
DESCRIPTION:Celebrate National French Fry Day at Topanga Social!\n\nOn July
  13th\, enjoy a free side of fries with your purchase of any entree from A
 mboy. Simply show the code FRYDAY to take advantage of this delicious offe
 r. Available all day long—don’t miss out on this crispy celebration!
ATTACH;FMTTYPE=image/jpeg:https://www.eatplaytopangasocial.com/wp-content/
 uploads/2024/07/NATIONAL_FRENCH_FRY_DAY_BANNERS_600x600.png
END:VEVENT
BEGIN:VTIMEZONE
TZID:America/Los_Angeles
X-LIC-LOCATION:America/Los_Angeles
BEGIN:DAYLIGHT
DTSTART:20240310T030000
TZOFFSETFROM:-0800
TZOFFSETTO:-0700
TZNAME:PDT
END:DAYLIGHT
END:VTIMEZONE
END:VCALENDAR